BEGIN:VCALENDAR
VERSION:2.0
PRODID:-//Old York Cellars Winery &amp; Vineyard - ECPv6.15.16//NONSGML v1.0//EN
CALSCALE:GREGORIAN
METHOD:PUBLISH
X-WR-CALNAME:Old York Cellars Winery &amp; Vineyard
X-ORIGINAL-URL:https://www.oldyorkcellars.com
X-WR-CALDESC:Events for Old York Cellars Winery &amp; Vineyard
REFRESH-INTERVAL;VALUE=DURATION:PT1H
X-Robots-Tag:noindex
X-PUBLISHED-TTL:PT1H
BEGIN:VTIMEZONE
TZID:UTC
BEGIN:STANDARD
TZOFFSETFROM:+0000
TZOFFSETTO:+0000
TZNAME:UTC
DTSTART:20230101T000000
END:STANDARD
END:VTIMEZONE
BEGIN:VEVENT
DTSTART;TZID=UTC:20240705T140000
DTEND;TZID=UTC:20240705T210000
DTSTAMP:20260419T164257
CREATED:20240611T195701Z
LAST-MODIFIED:20240611T195701Z
UID:12411-1720188000-1720213200@www.oldyorkcellars.com
SUMMARY:🎵4th of July Weekend Wine & Music - Allen Willcockson & DJ Nigel
DESCRIPTION:Enjoy Live Music  in our Vineyard Tent from 2:00 – 9:00 pm \nReservations recommended – Walk-ins Welcome \nMake your Reservation to visit Old York Cellars Winery\, Ringoes\, New Jersey. \nNote – $5 music cover fee per person for a 2 hour table reservation in our Vineyard Tent during live music
URL:https://www.oldyorkcellars.com/event/%f0%9f%8e%b54th-of-july-weekend-wine-music-allen-willcockson-dj-nigel/
LOCATION:Old York Cellars Winery\, Ringoes\, New Jersey\, 80 Old York Road\, Ringoes\, 08551\, United States
CATEGORIES:Winery & Vineyard
ATTACH;FMTTYPE=image/png:https://www.oldyorkcellars.com/wp-content/uploads/2021/08/Gray-Block-Spring-Music.png
END:VEVENT
END:VCALENDAR