BEGIN:VCALENDAR
VERSION:2.0
PRODID:-//Old York Cellars Winery &amp; Vineyard - ECPv6.15.16//NONSGML v1.0//EN
CALSCALE:GREGORIAN
METHOD:PUBLISH
X-ORIGINAL-URL:https://www.oldyorkcellars.com
X-WR-CALDESC:Events for Old York Cellars Winery &amp; Vineyard
REFRESH-INTERVAL;VALUE=DURATION:PT1H
X-Robots-Tag:noindex
X-PUBLISHED-TTL:PT1H
BEGIN:VTIMEZONE
TZID:UTC
BEGIN:STANDARD
TZOFFSETFROM:+0000
TZOFFSETTO:+0000
TZNAME:UTC
DTSTART:20230101T000000
END:STANDARD
END:VTIMEZONE
BEGIN:VEVENT
DTSTART;TZID=UTC:20240428T120000
DTEND;TZID=UTC:20240428T183000
DTSTAMP:20260419T150753
CREATED:20240306T204059Z
LAST-MODIFIED:20240306T204717Z
UID:11539-1714305600-1714329000@www.oldyorkcellars.com
SUMMARY:🎵Wine & Music with Mike Viscel
DESCRIPTION:Live Music with MIKE VISCEL 12-3:00PM and TBD 3:30-7:30PM.\nMake your Reservation to visit Old York Cellars Winery\, Ringoes\, New Jersey.
URL:https://www.oldyorkcellars.com/event/%f0%9f%8e%b5wine-music-with-mike-viscel/
CATEGORIES:Winery & Vineyard
END:VEVENT
END:VCALENDAR