BEGIN:VCALENDAR
VERSION:2.0
PRODID:-//Old York Cellars Winery &amp; Vineyard - ECPv6.15.16//NONSGML v1.0//EN
CALSCALE:GREGORIAN
METHOD:PUBLISH
X-WR-CALNAME:Old York Cellars Winery &amp; Vineyard
X-ORIGINAL-URL:https://www.oldyorkcellars.com
X-WR-CALDESC:Events for Old York Cellars Winery &amp; Vineyard
REFRESH-INTERVAL;VALUE=DURATION:PT1H
X-Robots-Tag:noindex
X-PUBLISHED-TTL:PT1H
BEGIN:VTIMEZONE
TZID:UTC
BEGIN:STANDARD
TZOFFSETFROM:+0000
TZOFFSETTO:+0000
TZNAME:UTC
DTSTART:20230101T000000
END:STANDARD
END:VTIMEZONE
BEGIN:VEVENT
DTSTART;TZID=UTC:20240420T120000
DTEND;TZID=UTC:20240420T183000
DTSTAMP:20260419T150623
CREATED:20240306T203914Z
LAST-MODIFIED:20240306T204759Z
UID:11533-1713614400-1713637800@www.oldyorkcellars.com
SUMMARY:🎵Wine & Music with Bill Shannon
DESCRIPTION:Live Music with TBD 12-3:00PM and BILL SHANNON 3:30-7:30PM.\nMake your Reservation to visit Old York Cellars Winery\, Ringoes\, New Jersey.
URL:https://www.oldyorkcellars.com/event/%f0%9f%8e%b5wine-music-with-bill-shannon/
CATEGORIES:Winery & Vineyard
END:VEVENT
END:VCALENDAR