BEGIN:VCALENDAR
VERSION:2.0
PRODID:-//Old York Cellars Winery &amp; Vineyard - ECPv6.15.16//NONSGML v1.0//EN
CALSCALE:GREGORIAN
METHOD:PUBLISH
X-ORIGINAL-URL:https://www.oldyorkcellars.com
X-WR-CALDESC:Events for Old York Cellars Winery &amp; Vineyard
REFRESH-INTERVAL;VALUE=DURATION:PT1H
X-Robots-Tag:noindex
X-PUBLISHED-TTL:PT1H
BEGIN:VTIMEZONE
TZID:UTC
BEGIN:STANDARD
TZOFFSETFROM:+0000
TZOFFSETTO:+0000
TZNAME:UTC
DTSTART:20230101T000000
END:STANDARD
END:VTIMEZONE
BEGIN:VEVENT
DTSTART;TZID=UTC:20240219T113000
DTEND;TZID=UTC:20240219T170000
DTSTAMP:20260419T181255
CREATED:20231221T155339Z
LAST-MODIFIED:20231221T155339Z
UID:10711-1708342200-1708362000@www.oldyorkcellars.com
SUMMARY:Open President's Day 11:30 AM to 5 PM
DESCRIPTION:The Winery will be open President’s Day from 11:30 AM to 5 PM\, enjoy one of our Wine & Food Tasting experiences inside our Vista Room or in one of our cozy fireside wine cabanas. \nMAKE A RESERVATION ⇒
URL:https://www.oldyorkcellars.com/event/open-presidents-day-1130-am-to-5-pm/
LOCATION:Old York Cellars Winery\, Ringoes\, New Jersey\, 80 Old York Road\, Ringoes\, 08551\, United States
CATEGORIES:Winery & Vineyard
END:VEVENT
END:VCALENDAR