BEGIN:VCALENDAR
VERSION:2.0
PRODID:-//Old York Cellars Winery &amp; Vineyard - ECPv6.15.16//NONSGML v1.0//EN
CALSCALE:GREGORIAN
METHOD:PUBLISH
X-ORIGINAL-URL:https://www.oldyorkcellars.com
X-WR-CALDESC:Events for Old York Cellars Winery &amp; Vineyard
REFRESH-INTERVAL;VALUE=DURATION:PT1H
X-Robots-Tag:noindex
X-PUBLISHED-TTL:PT1H
BEGIN:VTIMEZONE
TZID:UTC
BEGIN:STANDARD
TZOFFSETFROM:+0000
TZOFFSETTO:+0000
TZNAME:UTC
DTSTART:20230101T000000
END:STANDARD
END:VTIMEZONE
BEGIN:VEVENT
DTSTART;TZID=UTC:20240503T180000
DTEND;TZID=UTC:20240503T210000
DTSTAMP:20260421T102701
CREATED:20231213T223059Z
LAST-MODIFIED:20240103T181630Z
UID:10554-1714759200-1714770000@www.oldyorkcellars.com
SUMMARY:🎵🍷🍽️Friday Night Wine & Music
DESCRIPTION:Live Music from 6 PM to 9 PM. \nFull Winery Menu available.\nMake your Reservation to visit Old York Cellars Winery\, Ringoes\, New Jersey.
URL:https://www.oldyorkcellars.com/event/%f0%9f%8e%b5%f0%9f%8d%b7%f0%9f%8d%bd%ef%b8%8ffriday-night-wine-music-5-3-2024/
LOCATION:Old York Cellars Winery\, Ringoes\, New Jersey\, 80 Old York Road\, Ringoes\, 08551\, United States
CATEGORIES:Winery & Vineyard
END:VEVENT
BEGIN:VEVENT
DTSTART;TZID=UTC:20240504T120000
DTEND;TZID=UTC:20240504T183000
DTSTAMP:20260421T102701
CREATED:20240515T203315Z
LAST-MODIFIED:20240515T203315Z
UID:12243-1714824000-1714847400@www.oldyorkcellars.com
SUMMARY:🎵Weekend Wine & Music
DESCRIPTION:Enjoy Live Music  in our Vineyard Tent with Bill Shannon (from 12 – 3pm) & Bud Belviso (from 3:30 – 6:30 pm) \nReservations recommended – Walk-ins Welcome \nMake your Reservation to visit Old York Cellars Winery\, Ringoes\, New Jersey. \nNote – $5 music cover fee per person for a 2 hour table reservation in our Vineyard Tent during live music
URL:https://www.oldyorkcellars.com/event/%f0%9f%8e%b5weekend-wine-music/
LOCATION:Old York Cellars Winery\, Ringoes\, New Jersey\, 80 Old York Road\, Ringoes\, 08551\, United States
CATEGORIES:Winery & Vineyard
ATTACH;FMTTYPE=image/png:https://www.oldyorkcellars.com/wp-content/uploads/2021/08/Gray-Block-Spring-Music.png
END:VEVENT
BEGIN:VEVENT
DTSTART;TZID=UTC:20240510T180000
DTEND;TZID=UTC:20240510T210000
DTSTAMP:20260421T102701
CREATED:20231213T223254Z
LAST-MODIFIED:20240103T181722Z
UID:10558-1715364000-1715374800@www.oldyorkcellars.com
SUMMARY:🎵🍷🍽️Friday Night Wine & Music
DESCRIPTION:Live Music from 6 PM to 9 PM. \nFull Winery Menu available.\nMake your Reservation to visit Old York Cellars Winery\, Ringoes\, New Jersey.
URL:https://www.oldyorkcellars.com/event/%f0%9f%8e%b5%f0%9f%8d%b7%f0%9f%8d%bd%ef%b8%8ffriday-night-wine-music-5-10-2024/
LOCATION:Old York Cellars Winery\, Ringoes\, New Jersey\, 80 Old York Road\, Ringoes\, 08551\, United States
CATEGORIES:Winery & Vineyard
END:VEVENT
BEGIN:VEVENT
DTSTART;TZID=UTC:20240517T180000
DTEND;TZID=UTC:20240517T210000
DTSTAMP:20260421T102701
CREATED:20231213T223353Z
LAST-MODIFIED:20240103T181814Z
UID:10556-1715968800-1715979600@www.oldyorkcellars.com
SUMMARY:🎵🍷🍽️Friday Night Wine & Music
DESCRIPTION:Live Music from 6 PM to 9 PM. \nFull Winery Menu available.\nMake your Reservation to visit Old York Cellars Winery\, Ringoes\, New Jersey.
URL:https://www.oldyorkcellars.com/event/%f0%9f%8e%b5%f0%9f%8d%b7%f0%9f%8d%bd%ef%b8%8ffriday-night-wine-music-5-17-2024/
LOCATION:Old York Cellars Winery\, Ringoes\, New Jersey\, 80 Old York Road\, Ringoes\, 08551\, United States
CATEGORIES:Winery & Vineyard
END:VEVENT
BEGIN:VEVENT
DTSTART;TZID=UTC:20240519T120000
DTEND;TZID=UTC:20240519T183000
DTSTAMP:20260421T102701
CREATED:20240516T142643Z
LAST-MODIFIED:20240516T155617Z
UID:12246-1716120000-1716143400@www.oldyorkcellars.com
SUMMARY:🎵Weekend Wine & Music with Brian Hansen & Bob Zee
DESCRIPTION:Enjoy Live Music  in our Vineyard Tent from 12:00 – 6:30 pm \nReservations recommended – Walk-ins Welcome \nMake your Reservation to visit Old York Cellars Winery\, Ringoes\, New Jersey. \nNote – $5 music cover fee per person for a 2 hour table reservation in our Vineyard Tent during live music
URL:https://www.oldyorkcellars.com/event/%f0%9f%8e%b5weekend-wine-music-with-brian-hansen-bob-zee/
LOCATION:Old York Cellars Winery\, Ringoes\, New Jersey\, 80 Old York Road\, Ringoes\, 08551\, United States
CATEGORIES:Winery & Vineyard
ATTACH;FMTTYPE=image/png:https://www.oldyorkcellars.com/wp-content/uploads/2021/08/Gray-Block-Spring-Music.png
END:VEVENT
BEGIN:VEVENT
DTSTART;TZID=UTC:20240524T180000
DTEND;TZID=UTC:20240524T210000
DTSTAMP:20260421T102701
CREATED:20231213T223437Z
LAST-MODIFIED:20240103T181858Z
UID:10557-1716573600-1716584400@www.oldyorkcellars.com
SUMMARY:🎵🍷🍽️Friday Night Wine & Music
DESCRIPTION:Live Music from 6 PM to 9 PM. \nFull Winery Menu available.\nMake your Reservation to visit Old York Cellars Winery\, Ringoes\, New Jersey.
URL:https://www.oldyorkcellars.com/event/%f0%9f%8e%b5%f0%9f%8d%b7%f0%9f%8d%bd%ef%b8%8ffriday-night-wine-music-5-24-2024/
LOCATION:Old York Cellars Winery\, Ringoes\, New Jersey\, 80 Old York Road\, Ringoes\, 08551\, United States
CATEGORIES:Winery & Vineyard
END:VEVENT
BEGIN:VEVENT
DTSTART;TZID=UTC:20240525T120000
DTEND;TZID=UTC:20240525T183000
DTSTAMP:20260421T102701
CREATED:20240516T155905Z
LAST-MODIFIED:20240516T155905Z
UID:12250-1716638400-1716661800@www.oldyorkcellars.com
SUMMARY:🎵Weekend Wine & Music with Jeff Penque & Andrew Lobby
DESCRIPTION:Enjoy Live Music  in our Vineyard Tent from 12:00 – 6:30 pm \nReservations recommended – Walk-ins Welcome \nMake your Reservation to visit Old York Cellars Winery\, Ringoes\, New Jersey. \nNote – $5 music cover fee per person for a 2 hour table reservation in our Vineyard Tent during live music
URL:https://www.oldyorkcellars.com/event/%f0%9f%8e%b5weekend-wine-music-with-jeff-penque-andrew-lobby/
LOCATION:Old York Cellars Winery\, Ringoes\, New Jersey\, 80 Old York Road\, Ringoes\, 08551\, United States
CATEGORIES:Winery & Vineyard
ATTACH;FMTTYPE=image/png:https://www.oldyorkcellars.com/wp-content/uploads/2021/08/Gray-Block-Spring-Music.png
END:VEVENT
BEGIN:VEVENT
DTSTART;TZID=UTC:20240526T120000
DTEND;TZID=UTC:20240526T183000
DTSTAMP:20260421T102701
CREATED:20240516T155938Z
LAST-MODIFIED:20240516T161059Z
UID:12252-1716724800-1716748200@www.oldyorkcellars.com
SUMMARY:🎵Weekend Wine & Music with Bill Ihling & Sara Teti
DESCRIPTION:Enjoy Live Music  in our Vineyard Tent from 12:00 – 6:30 pm \nReservations recommended – Walk-ins Welcome \nMake your Reservation to visit Old York Cellars Winery\, Ringoes\, New Jersey. \nNote – $5 music cover fee per person for a 2 hour table reservation in our Vineyard Tent during live music
URL:https://www.oldyorkcellars.com/event/%f0%9f%8e%b5weekend-wine-music-with-bill-ihling-sara-teti/
LOCATION:Old York Cellars Winery\, Ringoes\, New Jersey\, 80 Old York Road\, Ringoes\, 08551\, United States
CATEGORIES:Winery & Vineyard
ATTACH;FMTTYPE=image/png:https://www.oldyorkcellars.com/wp-content/uploads/2021/08/Gray-Block-Spring-Music.png
END:VEVENT
BEGIN:VEVENT
DTSTART;TZID=UTC:20240527T120000
DTEND;TZID=UTC:20240527T150000
DTSTAMP:20260421T102701
CREATED:20240516T161200Z
LAST-MODIFIED:20240516T161200Z
UID:12270-1716811200-1716822000@www.oldyorkcellars.com
SUMMARY:🎵Memorial Day Wine & Music with Anker
DESCRIPTION:Enjoy Live Music  in our Vineyard Tent from 12:00 – 3:00 pm \nReservations recommended – Walk-ins Welcome \nMake your Reservation to visit Old York Cellars Winery\, Ringoes\, New Jersey. \nNote – $5 music cover fee per person for a 2 hour table reservation in our Vineyard Tent during live music
URL:https://www.oldyorkcellars.com/event/%f0%9f%8e%b5memorial-day-wine-music-with-anker/
LOCATION:Old York Cellars Winery\, Ringoes\, New Jersey\, 80 Old York Road\, Ringoes\, 08551\, United States
CATEGORIES:Winery & Vineyard
ATTACH;FMTTYPE=image/png:https://www.oldyorkcellars.com/wp-content/uploads/2021/08/Gray-Block-Spring-Music.png
END:VEVENT
BEGIN:VEVENT
DTSTART;TZID=UTC:20240531T180000
DTEND;TZID=UTC:20240531T210000
DTSTAMP:20260421T102701
CREATED:20240103T181954Z
LAST-MODIFIED:20240103T181954Z
UID:10947-1717178400-1717189200@www.oldyorkcellars.com
SUMMARY:🎵🍷🍽️Friday Night Wine & Music
DESCRIPTION:Live Music from 6 PM to 9 PM. \nFull Winery Menu available.\nMake your Reservation to visit Old York Cellars Winery\, Ringoes\, New Jersey.
URL:https://www.oldyorkcellars.com/event/%f0%9f%8e%b5%f0%9f%8d%b7%f0%9f%8d%bd%ef%b8%8ffriday-night-wine-music-5-31-2024/
LOCATION:Old York Cellars Winery\, Ringoes\, New Jersey\, 80 Old York Road\, Ringoes\, 08551\, United States
CATEGORIES:Winery & Vineyard
END:VEVENT
END:VCALENDAR